BEGIN:VCALENDAR
VERSION:2.0
PRODID:-//High Rollers Cannabis Dispensary - ECPv6.15.20//NONSGML v1.0//EN
CALSCALE:GREGORIAN
METHOD:PUBLISH
X-WR-CALNAME:High Rollers Cannabis Dispensary
X-ORIGINAL-URL:https://highrollersdispensary.com
X-WR-CALDESC:Events for High Rollers Cannabis Dispensary
REFRESH-INTERVAL;VALUE=DURATION:PT1H
X-Robots-Tag:noindex
X-PUBLISHED-TTL:PT1H
BEGIN:VTIMEZONE
TZID:America/New_York
BEGIN:DAYLIGHT
TZOFFSETFROM:-0500
TZOFFSETTO:-0400
TZNAME:EDT
DTSTART:20250309T070000
END:DAYLIGHT
BEGIN:STANDARD
TZOFFSETFROM:-0400
TZOFFSETTO:-0500
TZNAME:EST
DTSTART:20251102T060000
END:STANDARD
BEGIN:DAYLIGHT
TZOFFSETFROM:-0500
TZOFFSETTO:-0400
TZNAME:EDT
DTSTART:20260308T070000
END:DAYLIGHT
BEGIN:STANDARD
TZOFFSETFROM:-0400
TZOFFSETTO:-0500
TZNAME:EST
DTSTART:20261101T060000
END:STANDARD
BEGIN:DAYLIGHT
TZOFFSETFROM:-0500
TZOFFSETTO:-0400
TZNAME:EDT
DTSTART:20270314T070000
END:DAYLIGHT
BEGIN:STANDARD
TZOFFSETFROM:-0400
TZOFFSETTO:-0500
TZNAME:EST
DTSTART:20271107T060000
END:STANDARD
END:VTIMEZONE
BEGIN:VEVENT
DTSTART;TZID=America/New_York:20260310T190000
DTEND;TZID=America/New_York:20260310T220000
DTSTAMP:20260419T082426
CREATED:20260309T022727Z
LAST-MODIFIED:20260309T023808Z
UID:61873-1773169200-1773180000@highrollersdispensary.com
SUMMARY:Karaoke
DESCRIPTION:Karaoke Tuesday \n21+ Hosted by Stevie Wonderful! \nPass-pass-pass the mic in our consumption lounge starting at 7pm. Elevated tunes with buds! All cannabis must be purchased onsite. \nLounge entry required. \nNo alcohol\, tobacco\, or nicotine products permitted. \nBring your own food & nonalcoholic sealed beverages.
URL:https://highrollersdispensary.com/event/karaoke-7/
END:VEVENT
BEGIN:VEVENT
DTSTART;TZID=America/New_York:20260326T190000
DTEND;TZID=America/New_York:20260326T213000
DTSTAMP:20260419T082426
CREATED:20260321T022416Z
LAST-MODIFIED:20260321T022639Z
UID:63047-1774551600-1774560600@highrollersdispensary.com
SUMMARY:Comedy Open Mic
DESCRIPTION:Open Mic in The Lounge \nHosted by Bert Williams \nJoin us in The Lounge for smokes and jokes. Get on stage or enjoy from the crowd. \nPlease bring any food or sealed nonalcoholic beverages to enjoy. All products must be purchased onsite. \n21+ Lounge admission required.
URL:https://highrollersdispensary.com/event/comedy-open-mic-2/
END:VEVENT
BEGIN:VEVENT
DTSTART;TZID=America/New_York:20260331T190000
DTEND;TZID=America/New_York:20260331T213000
DTSTAMP:20260419T082426
CREATED:20260330T171308Z
LAST-MODIFIED:20260330T171308Z
UID:63846-1774983600-1774992600@highrollersdispensary.com
SUMMARY:Karaoke in The Lounge
DESCRIPTION:Karaoke Tuesday \n21+ Hosted by Stevie Wonderful! \nPass-pass-pass the mic in our consumption lounge starting at 7pm. Elevated tunes with buds! All cannabis must be purchased onsite. \nLounge entry required. \nNo alcohol\, tobacco\, or nicotine products permitted. \nBring your own food & nonalcoholic sealed beverages.
URL:https://highrollersdispensary.com/event/karaoke-in-the-lounge/
END:VEVENT
END:VCALENDAR