BEGIN:VCALENDAR
VERSION:2.0
PRODID:-//High Rollers Cannabis Dispensary - ECPv6.15.20//NONSGML v1.0//EN
CALSCALE:GREGORIAN
METHOD:PUBLISH
X-ORIGINAL-URL:https://highrollersdispensary.com
X-WR-CALDESC:Events for High Rollers Cannabis Dispensary
REFRESH-INTERVAL;VALUE=DURATION:PT1H
X-Robots-Tag:noindex
X-PUBLISHED-TTL:PT1H
BEGIN:VTIMEZONE
TZID:America/New_York
BEGIN:DAYLIGHT
TZOFFSETFROM:-0500
TZOFFSETTO:-0400
TZNAME:EDT
DTSTART:20240310T070000
END:DAYLIGHT
BEGIN:STANDARD
TZOFFSETFROM:-0400
TZOFFSETTO:-0500
TZNAME:EST
DTSTART:20241103T060000
END:STANDARD
BEGIN:DAYLIGHT
TZOFFSETFROM:-0500
TZOFFSETTO:-0400
TZNAME:EDT
DTSTART:20250309T070000
END:DAYLIGHT
BEGIN:STANDARD
TZOFFSETFROM:-0400
TZOFFSETTO:-0500
TZNAME:EST
DTSTART:20251102T060000
END:STANDARD
BEGIN:DAYLIGHT
TZOFFSETFROM:-0500
TZOFFSETTO:-0400
TZNAME:EDT
DTSTART:20260308T070000
END:DAYLIGHT
BEGIN:STANDARD
TZOFFSETFROM:-0400
TZOFFSETTO:-0500
TZNAME:EST
DTSTART:20261101T060000
END:STANDARD
END:VTIMEZONE
BEGIN:VEVENT
DTSTART;TZID=America/New_York:20251209T140000
DTEND;TZID=America/New_York:20251211T153000
DTSTAMP:20260419T135308
CREATED:20251207T225813Z
LAST-MODIFIED:20251208T030509Z
UID:52728-1765288800-1765467000@highrollersdispensary.com
SUMMARY:Meet and Greet Jim Belushi
DESCRIPTION:Join us Tuesday December 9th\, 2025\, as we host the legendary entertainer\, Jim Belushi.  Meet and greet the man behind Belushi’s Farm\, a close collaboration between The Blues Brothers’ legacy and High Grass Farms.
URL:https://highrollersdispensary.com/event/meet-and-greet-jim-belushi/
END:VEVENT
BEGIN:VEVENT
DTSTART;TZID=America/New_York:20251209T190000
DTEND;TZID=America/New_York:20251209T213000
DTSTAMP:20260419T135308
CREATED:20251203T172634Z
LAST-MODIFIED:20251207T231703Z
UID:52202-1765306800-1765315800@highrollersdispensary.com
SUMMARY:Karaoke
DESCRIPTION:Join us Tuesday December 9th & 23rd for Karaoke in our consumption lounge hosted by: Stevie Wonderful. \nNon-alcoholic sealed beverages and outside food products permitted. \nNo nicotine/tobacco products. \nLounge admission required. 21+
URL:https://highrollersdispensary.com/event/karaoke/
END:VEVENT
BEGIN:VEVENT
DTSTART;TZID=America/New_York:20251218T190000
DTEND;TZID=America/New_York:20251218T213000
DTSTAMP:20260419T135308
CREATED:20251207T234644Z
LAST-MODIFIED:20251208T003924Z
UID:52205-1766084400-1766093400@highrollersdispensary.com
SUMMARY:Stand Up Comedy Open Mic
DESCRIPTION:Join in the audience or on stage for High Rollers Stand-Up Comedy Open Mic Thursday\, December 18th\, 2025. 6:30 PM Comedian sign-up first come\, first serve. 7PM showtime. \nNon-alcoholic sealed beverages and outside food products permitted. \nNo nicotine/tobacco products. \nLounge admission required. 21+
URL:https://highrollersdispensary.com/event/stand-up-comedy-open-mic/
END:VEVENT
BEGIN:VEVENT
DTSTART;TZID=America/New_York:20251223T190000
DTEND;TZID=America/New_York:20251223T213000
DTSTAMP:20260419T135308
CREATED:20251207T231513Z
LAST-MODIFIED:20251212T021608Z
UID:52735-1766516400-1766525400@highrollersdispensary.com
SUMMARY:Karaoke
DESCRIPTION:Puff-puff-pass the mic all night with your best buds! Join us for a special holiday edition of High Rollers karaoke hosted by DJ Stevie Wonderful. \nTuesday December 23rd 7PM-9:30PM. \nNon-alcoholic sealed beverages and outside food products permitted. \nNo nicotine/tobacco products. \nLounge admission required. 21+
URL:https://highrollersdispensary.com/event/karaokehighrollers/
END:VEVENT
END:VCALENDAR