BEGIN:VCALENDAR
VERSION:2.0
PRODID:-//High Rollers Cannabis Dispensary - ECPv6.15.20//NONSGML v1.0//EN
CALSCALE:GREGORIAN
METHOD:PUBLISH
X-ORIGINAL-URL:https://highrollersdispensary.com
X-WR-CALDESC:Events for High Rollers Cannabis Dispensary
REFRESH-INTERVAL;VALUE=DURATION:PT1H
X-Robots-Tag:noindex
X-PUBLISHED-TTL:PT1H
BEGIN:VTIMEZONE
TZID:America/New_York
BEGIN:DAYLIGHT
TZOFFSETFROM:-0500
TZOFFSETTO:-0400
TZNAME:EDT
DTSTART:20250309T070000
END:DAYLIGHT
BEGIN:STANDARD
TZOFFSETFROM:-0400
TZOFFSETTO:-0500
TZNAME:EST
DTSTART:20251102T060000
END:STANDARD
BEGIN:DAYLIGHT
TZOFFSETFROM:-0500
TZOFFSETTO:-0400
TZNAME:EDT
DTSTART:20260308T070000
END:DAYLIGHT
BEGIN:STANDARD
TZOFFSETFROM:-0400
TZOFFSETTO:-0500
TZNAME:EST
DTSTART:20261101T060000
END:STANDARD
BEGIN:DAYLIGHT
TZOFFSETFROM:-0500
TZOFFSETTO:-0400
TZNAME:EDT
DTSTART:20270314T070000
END:DAYLIGHT
BEGIN:STANDARD
TZOFFSETFROM:-0400
TZOFFSETTO:-0500
TZNAME:EST
DTSTART:20271107T060000
END:STANDARD
END:VTIMEZONE
BEGIN:VEVENT
DTSTART;TZID=America/New_York:20260122T190000
DTEND;TZID=America/New_York:20260122T220000
DTSTAMP:20260419T173235
CREATED:20260105T203745Z
LAST-MODIFIED:20260105T203745Z
UID:56200-1769108400-1769119200@highrollersdispensary.com
SUMMARY:Acoustic Open Mic Thursday 1/22/26
DESCRIPTION:Acoustic Open Mic High Rollers Consumption Lounge. \n21+ 7pm-10PM Thursday 1/22/26 21+ \nAll performers welcomed: Music\, spoken word\, and poetry welcome. (2 songs or 5-7 minutes per act). \nLounge entry required. \nOutside sealed food and nonalcoholic drink permitted. \nAll cannabis must be purchased onsite. No tobacco\, nicotine\, or alcohol permitted.
URL:https://highrollersdispensary.com/event/acoustic-open-mic-thursday-1-22-26/
END:VEVENT
BEGIN:VEVENT
DTSTART;TZID=America/New_York:20260127T190000
DTEND;TZID=America/New_York:20260127T213000
DTSTAMP:20260419T173235
CREATED:20260105T203455Z
LAST-MODIFIED:20260105T203455Z
UID:56183-1769540400-1769549400@highrollersdispensary.com
SUMMARY:Karaoke
DESCRIPTION:Join us biweekly Tuesday’s for karaoke hosted by Stevie Wonderful! \nPass-pass-pass the mic in our consumption lounge starting at 7pm. Elevated tunes with buds! \n21+ \nAll cannabis must be purchased onsite. \nLounge entry required. \nNo alcohol\, Tabacco\, or nicotine products permitted. \nJanuary Tuesday 1/13/26 \nJanuary Tuesday 1/27/26
URL:https://highrollersdispensary.com/event/karaoke-3/
END:VEVENT
BEGIN:VEVENT
DTSTART;TZID=America/New_York:20260208T180000
DTEND;TZID=America/New_York:20260208T220000
DTSTAMP:20260419T173235
CREATED:20260126T174718Z
LAST-MODIFIED:20260127T043702Z
UID:58205-1770573600-1770588000@highrollersdispensary.com
SUMMARY:Super Bowl Watch Party
DESCRIPTION:🏆🏈 SUPER BOWL WATCH PARTY 🏈🏆 \n📍 High Rollers Lounge | Atlantic City \nBig screens. Big game. Big vibes. \n🎟️ $25 Entry Includes \n✔️21+  Lounge admission \n✔️ 2 infused mocktails \n✔️ Food voucher \n✔️ 1g preroll provided by our sponsor Agri-Kind \n📸 Photo Ops \n📅 February 8th \n⏰ 6PM–10PM \nPull up with your crew and watch the biggest game of the year the right way. \n🏈🔥 Limited space. Don’t miss it. 🔥🏈 \nTickets available at EventHi.com! See link below.
URL:https://highrollersdispensary.com/event/super-bowl-watch-party/
END:VEVENT
BEGIN:VEVENT
DTSTART;TZID=America/New_York:20260210T190000
DTEND;TZID=America/New_York:20260210T220000
DTSTAMP:20260419T173235
CREATED:20260204T193946Z
LAST-MODIFIED:20260204T193946Z
UID:58869-1770750000-1770760800@highrollersdispensary.com
SUMMARY:Karaoke
DESCRIPTION:Karaoke \nTuesday 7-9:45PM \nHosted by Stevie Wonderful! \nPass-pass-pass the mic in our consumption lounge starting at 7pm. Elevated tunes with buds! \n21+ \nAll cannabis must be purchased onsite. \nLounge entry required. \nNo alcohol\, tobacco\, or nicotine products permitted. \nBring your own food & nonalcoholic sealed beverages.
URL:https://highrollersdispensary.com/event/karaoke-4/
ATTACH;FMTTYPE=image/png:https://highrollersdispensary.com/wp-content/uploads/2026/02/Karaoke-Instagram-Post-45.png
END:VEVENT
BEGIN:VEVENT
DTSTART;TZID=America/New_York:20260217T190000
DTEND;TZID=America/New_York:20260217T214500
DTSTAMP:20260419T173235
CREATED:20260216T180951Z
LAST-MODIFIED:20260216T180951Z
UID:59935-1771354800-1771364700@highrollersdispensary.com
SUMMARY:Karaoke
DESCRIPTION:Karaoke \nTuesday 7-9:45PM \nHosted by Stevie Wonderful! \nPass-pass-pass the mic in our consumption lounge starting at 7pm. Elevated tunes with buds! \n21+ \nAll cannabis must be purchased onsite. \nLounge entry required. \nNo alcohol\, tobacco\, or nicotine products permitted. \nBring your own food & nonalcoholic sealed beverages.
URL:https://highrollersdispensary.com/event/karaoke-6/
END:VEVENT
BEGIN:VEVENT
DTSTART;TZID=America/New_York:20260219T190000
DTEND;TZID=America/New_York:20260219T213000
DTSTAMP:20260419T173235
CREATED:20260216T181355Z
LAST-MODIFIED:20260216T181403Z
UID:59938-1771527600-1771536600@highrollersdispensary.com
SUMMARY:Jam Session
DESCRIPTION:7pm Thursday 2/19/26 \n21+ Lounge Admission required. Open mic for the artists come tell a story\, or poem. Bring and instrument to play a song or sing on the microphones. Whatever works we’re here to jam and enjoy! \nOutside food and sealed nonalcoholic drinks are allowed! \nNo tobacco\, nicotine\, or alcohol allowed. All product consumed must be purchased onside.
URL:https://highrollersdispensary.com/event/jam-session/
END:VEVENT
BEGIN:VEVENT
DTSTART;TZID=America/New_York:20260224T190000
DTEND;TZID=America/New_York:20260224T220000
DTSTAMP:20260419T173235
CREATED:20260204T194101Z
LAST-MODIFIED:20260204T194101Z
UID:58872-1771959600-1771970400@highrollersdispensary.com
SUMMARY:Karaoke
DESCRIPTION:Karaoke \nTuesday 7-9:45PM \nHosted by Stevie Wonderful! \nPass-pass-pass the mic in our consumption lounge starting at 7pm. Elevated tunes with buds! \n21+ \nAll cannabis must be purchased onsite. \nLounge entry required. \nNo alcohol\, tobacco\, or nicotine products permitted. \nBring your own food & nonalcoholic sealed beverages.
URL:https://highrollersdispensary.com/event/karaoke-5/
ATTACH;FMTTYPE=image/png:https://highrollersdispensary.com/wp-content/uploads/2026/02/Karaoke-Instagram-Post-45.png
END:VEVENT
BEGIN:VEVENT
DTSTART;TZID=America/New_York:20260226T190000
DTEND;TZID=America/New_York:20260226T213000
DTSTAMP:20260419T173235
CREATED:20260226T161743Z
LAST-MODIFIED:20260226T161743Z
UID:60561-1772132400-1772141400@highrollersdispensary.com
SUMMARY:Open Mic
DESCRIPTION:Open Mic in The Lounge hosted by Bert Williams \nStage time for all! Tell a joke\, poem\, sing a song. We have an open mic with admission to The Lounge. Please bring any food or sealed nonalcoholic beverages to enjoy. All products must be purchased onsite. \n21+
URL:https://highrollersdispensary.com/event/open-mic/
END:VEVENT
BEGIN:VEVENT
DTSTART;TZID=America/New_York:20260310T190000
DTEND;TZID=America/New_York:20260310T220000
DTSTAMP:20260419T173235
CREATED:20260309T022727Z
LAST-MODIFIED:20260309T023808Z
UID:61873-1773169200-1773180000@highrollersdispensary.com
SUMMARY:Karaoke
DESCRIPTION:Karaoke Tuesday \n21+ Hosted by Stevie Wonderful! \nPass-pass-pass the mic in our consumption lounge starting at 7pm. Elevated tunes with buds! All cannabis must be purchased onsite. \nLounge entry required. \nNo alcohol\, tobacco\, or nicotine products permitted. \nBring your own food & nonalcoholic sealed beverages.
URL:https://highrollersdispensary.com/event/karaoke-7/
END:VEVENT
BEGIN:VEVENT
DTSTART;TZID=America/New_York:20260326T190000
DTEND;TZID=America/New_York:20260326T213000
DTSTAMP:20260419T173235
CREATED:20260321T022416Z
LAST-MODIFIED:20260321T022639Z
UID:63047-1774551600-1774560600@highrollersdispensary.com
SUMMARY:Comedy Open Mic
DESCRIPTION:Open Mic in The Lounge \nHosted by Bert Williams \nJoin us in The Lounge for smokes and jokes. Get on stage or enjoy from the crowd. \nPlease bring any food or sealed nonalcoholic beverages to enjoy. All products must be purchased onsite. \n21+ Lounge admission required.
URL:https://highrollersdispensary.com/event/comedy-open-mic-2/
END:VEVENT
BEGIN:VEVENT
DTSTART;TZID=America/New_York:20260331T190000
DTEND;TZID=America/New_York:20260331T213000
DTSTAMP:20260419T173235
CREATED:20260330T171308Z
LAST-MODIFIED:20260330T171308Z
UID:63846-1774983600-1774992600@highrollersdispensary.com
SUMMARY:Karaoke in The Lounge
DESCRIPTION:Karaoke Tuesday \n21+ Hosted by Stevie Wonderful! \nPass-pass-pass the mic in our consumption lounge starting at 7pm. Elevated tunes with buds! All cannabis must be purchased onsite. \nLounge entry required. \nNo alcohol\, tobacco\, or nicotine products permitted. \nBring your own food & nonalcoholic sealed beverages.
URL:https://highrollersdispensary.com/event/karaoke-in-the-lounge/
END:VEVENT
BEGIN:VEVENT
DTSTART;TZID=America/New_York:20260420T140000
DTEND;TZID=America/New_York:20260420T220000
DTSTAMP:20260419T173235
CREATED:20260330T171828Z
LAST-MODIFIED:20260330T171828Z
UID:63849-1776693600-1776722400@highrollersdispensary.com
SUMMARY:420 Fest
DESCRIPTION:🔥 High Rollers 420 Fest 🔥 \nGet ready to celebrate 4/20 in style at High Rollers Lounge & Theater + Ocean View Room in The Claridge Hotel. This will be a unforgettable day packed with music\, vibes\, and premium cannabis culture. \nJoin us on April 20th from 2PM–10PM for a high-energy festival featuring a live performance by SensaMotion plus additional bands (TBD). Expect a full-day experience with live music\, top-tier brands\, vendors\, food\, drinks\, and tons of giveaways. \nExplore offerings from leading cannabis brands like Agri-Kind and RYTHM\, and connect with a variety of local vendors showcasing the best in the scene. \n✨ What to expect: \n\nLive music all day\nCannabis brands & vendors\nFood & drinks\nPrizes & giveaways\nA vibrant 420 community atmosphere\n“Lots of Trees” 🌳\n\nPresented by: AGRI-KIND and RHYTHM \nSponsored by Sour Deez\, ROVE\, Camino\, High Grass Farms\, OGeez!\, Wana\, Journeyman\, Timeless\, and Beard & Blaze
URL:https://highrollersdispensary.com/event/420-fest/
END:VEVENT
END:VCALENDAR