BEGIN:VCALENDAR
VERSION:2.0
PRODID:-//High Rollers Cannabis Dispensary - ECPv6.15.20//NONSGML v1.0//EN
CALSCALE:GREGORIAN
METHOD:PUBLISH
X-WR-CALNAME:High Rollers Cannabis Dispensary
X-ORIGINAL-URL:https://highrollersdispensary.com
X-WR-CALDESC:Events for High Rollers Cannabis Dispensary
REFRESH-INTERVAL;VALUE=DURATION:PT1H
X-Robots-Tag:noindex
X-PUBLISHED-TTL:PT1H
BEGIN:VTIMEZONE
TZID:America/New_York
BEGIN:DAYLIGHT
TZOFFSETFROM:-0500
TZOFFSETTO:-0400
TZNAME:EDT
DTSTART:20240310T070000
END:DAYLIGHT
BEGIN:STANDARD
TZOFFSETFROM:-0400
TZOFFSETTO:-0500
TZNAME:EST
DTSTART:20241103T060000
END:STANDARD
BEGIN:DAYLIGHT
TZOFFSETFROM:-0500
TZOFFSETTO:-0400
TZNAME:EDT
DTSTART:20250309T070000
END:DAYLIGHT
BEGIN:STANDARD
TZOFFSETFROM:-0400
TZOFFSETTO:-0500
TZNAME:EST
DTSTART:20251102T060000
END:STANDARD
BEGIN:DAYLIGHT
TZOFFSETFROM:-0500
TZOFFSETTO:-0400
TZNAME:EDT
DTSTART:20260308T070000
END:DAYLIGHT
BEGIN:STANDARD
TZOFFSETFROM:-0400
TZOFFSETTO:-0500
TZNAME:EST
DTSTART:20261101T060000
END:STANDARD
END:VTIMEZONE
BEGIN:VEVENT
DTSTART;TZID=America/New_York:20251104T190000
DTEND;TZID=America/New_York:20251104T210000
DTSTAMP:20260420T012426
CREATED:20251022T161419Z
LAST-MODIFIED:20251022T161419Z
UID:46547-1762282800-1762290000@highrollersdispensary.com
SUMMARY:Seriously Single Shindigs: Speed Dating
DESCRIPTION:Seriously Single? Let’s fix that.\nPull up to High Rollers on 11/4 from 7–9PM for a speed dating sesh like no other.\n Good weed. Chill vibes. Real connections.\nWhether you’re looking for love or just a spark\, the energy’s gonna be right.\n Limited spots — don’t sleep.\n Tickets here: my.cheddarup.com/c/speed-dating
URL:https://highrollersdispensary.com/event/seriously-single-shindigs-speed-dating/
LOCATION:High Rollers Dispensary\, 120 S. Indiana Ave\, Atlantic City\, 08401\, United States
END:VEVENT
BEGIN:VEVENT
DTSTART;TZID=America/New_York:20251030T180000
DTEND;TZID=America/New_York:20251030T210000
DTSTAMP:20260420T012426
CREATED:20251020T200130Z
LAST-MODIFIED:20251021T162144Z
UID:46442-1761847200-1761858000@highrollersdispensary.com
SUMMARY:🎃 High Rollers Halloween Party 🎲🔥
DESCRIPTION:High Rollers Halloween Party \nOctober 30 | 6–9 PM | High Rollers Consumption Lounge\nSponsored by Bango & Panda Farms  \nJoin us for a Halloween night like no other inside Atlantic City’s High Rollers Lounge. Your ticket includes a pre-roll to spark the night\, plus a full lineup of spooky fun:  \n Costume Contest with prizes\n Candy & games all night\n Zenco station & Studenglass station\n Music\, vibes\, and more surprises  \n No tobacco products\n No outside cannabis products — only products purchased from High Rollers Dispensary allowed  \nCome in costume\, bring your crew\, and roll into Halloween the High Rollers way. 
URL:https://highrollersdispensary.com/event/%f0%9f%8e%83-high-rollers-halloween-party-%f0%9f%8e%b2%f0%9f%94%a5/
LOCATION:High Rollers Dispensary\, 120 S. Indiana Ave\, Atlantic City\, 08401\, United States
END:VEVENT
BEGIN:VEVENT
DTSTART;TZID=America/New_York:20251023T173000
DTEND;TZID=America/New_York:20251023T210000
DTSTAMP:20260420T012426
CREATED:20251020T195625Z
LAST-MODIFIED:20251020T195625Z
UID:46429-1761240600-1761253200@highrollersdispensary.com
SUMMARY:Open Mic Comedy
DESCRIPTION:Join us in the audience or on stage for High Rollers Stand-Up Comedy Open Mic. 10/23 |  6PM–9PM Comedian sign-up is first come\, first serve. Entry with lounge admission |  21+ only
URL:https://highrollersdispensary.com/event/open-mic-comedy/
LOCATION:High Rollers Dispensary\, 120 S. Indiana Ave\, Atlantic City\, 08401\, United States
END:VEVENT
END:VCALENDAR