BEGIN:VCALENDAR
VERSION:2.0
PRODID:-//High Rollers Cannabis Dispensary - ECPv6.15.20//NONSGML v1.0//EN
CALSCALE:GREGORIAN
METHOD:PUBLISH
X-WR-CALNAME:High Rollers Cannabis Dispensary
X-ORIGINAL-URL:https://highrollersdispensary.com
X-WR-CALDESC:Events for High Rollers Cannabis Dispensary
REFRESH-INTERVAL;VALUE=DURATION:PT1H
X-Robots-Tag:noindex
X-PUBLISHED-TTL:PT1H
BEGIN:VTIMEZONE
TZID:America/New_York
BEGIN:DAYLIGHT
TZOFFSETFROM:-0500
TZOFFSETTO:-0400
TZNAME:EDT
DTSTART:20240310T070000
END:DAYLIGHT
BEGIN:STANDARD
TZOFFSETFROM:-0400
TZOFFSETTO:-0500
TZNAME:EST
DTSTART:20241103T060000
END:STANDARD
BEGIN:DAYLIGHT
TZOFFSETFROM:-0500
TZOFFSETTO:-0400
TZNAME:EDT
DTSTART:20250309T070000
END:DAYLIGHT
BEGIN:STANDARD
TZOFFSETFROM:-0400
TZOFFSETTO:-0500
TZNAME:EST
DTSTART:20251102T060000
END:STANDARD
BEGIN:DAYLIGHT
TZOFFSETFROM:-0500
TZOFFSETTO:-0400
TZNAME:EDT
DTSTART:20260308T070000
END:DAYLIGHT
BEGIN:STANDARD
TZOFFSETFROM:-0400
TZOFFSETTO:-0500
TZNAME:EST
DTSTART:20261101T060000
END:STANDARD
END:VTIMEZONE
BEGIN:VEVENT
DTSTART;TZID=America/New_York:20251023T173000
DTEND;TZID=America/New_York:20251023T210000
DTSTAMP:20260419T221119
CREATED:20251020T195625Z
LAST-MODIFIED:20251020T195625Z
UID:46429-1761240600-1761253200@highrollersdispensary.com
SUMMARY:Open Mic Comedy
DESCRIPTION:Join us in the audience or on stage for High Rollers Stand-Up Comedy Open Mic. 10/23 |  6PM–9PM Comedian sign-up is first come\, first serve. Entry with lounge admission |  21+ only
URL:https://highrollersdispensary.com/event/open-mic-comedy/
LOCATION:High Rollers Dispensary\, 120 S. Indiana Ave\, Atlantic City\, 08401\, United States
END:VEVENT
END:VCALENDAR