BEGIN:VCALENDAR
VERSION:2.0
PRODID:-//High Rollers Cannabis Dispensary - ECPv6.15.20//NONSGML v1.0//EN
CALSCALE:GREGORIAN
METHOD:PUBLISH
X-ORIGINAL-URL:https://highrollersdispensary.com
X-WR-CALDESC:Events for High Rollers Cannabis Dispensary
REFRESH-INTERVAL;VALUE=DURATION:PT1H
X-Robots-Tag:noindex
X-PUBLISHED-TTL:PT1H
BEGIN:VTIMEZONE
TZID:America/New_York
BEGIN:DAYLIGHT
TZOFFSETFROM:-0500
TZOFFSETTO:-0400
TZNAME:EDT
DTSTART:20240310T070000
END:DAYLIGHT
BEGIN:STANDARD
TZOFFSETFROM:-0400
TZOFFSETTO:-0500
TZNAME:EST
DTSTART:20241103T060000
END:STANDARD
BEGIN:DAYLIGHT
TZOFFSETFROM:-0500
TZOFFSETTO:-0400
TZNAME:EDT
DTSTART:20250309T070000
END:DAYLIGHT
BEGIN:STANDARD
TZOFFSETFROM:-0400
TZOFFSETTO:-0500
TZNAME:EST
DTSTART:20251102T060000
END:STANDARD
BEGIN:DAYLIGHT
TZOFFSETFROM:-0500
TZOFFSETTO:-0400
TZNAME:EDT
DTSTART:20260308T070000
END:DAYLIGHT
BEGIN:STANDARD
TZOFFSETFROM:-0400
TZOFFSETTO:-0500
TZNAME:EST
DTSTART:20261101T060000
END:STANDARD
END:VTIMEZONE
BEGIN:VEVENT
DTSTART;TZID=America/New_York:20251209T140000
DTEND;TZID=America/New_York:20251211T153000
DTSTAMP:20260419T154248
CREATED:20251207T225813Z
LAST-MODIFIED:20251208T030509Z
UID:52728-1765288800-1765467000@highrollersdispensary.com
SUMMARY:Meet and Greet Jim Belushi
DESCRIPTION:Join us Tuesday December 9th\, 2025\, as we host the legendary entertainer\, Jim Belushi.  Meet and greet the man behind Belushi’s Farm\, a close collaboration between The Blues Brothers’ legacy and High Grass Farms.
URL:https://highrollersdispensary.com/event/meet-and-greet-jim-belushi/
END:VEVENT
END:VCALENDAR